BEGIN:VCALENDAR
VERSION:2.0
METHOD:PUBLISH
PRODID:-//Accessible Web Design//My Calendar//http://www.joedolson.com//v//EN';
BEGIN:VEVENT
UID:2-2
LOCATION:
SUMMARY:test
DTSTAMP:20240403
ORGANIZER;CN=levellandcare:MAILTO:jmichaelskyblue@gmail.com
DTSTART:20240403
DTEND:20240404
CATEGORIES:General
URL;VALUE=URI:https://levellandcare.com/mc-events/test?mc_id=2
DESCRIPTION:
X-FUNAMBOL-ALLDAY: 1
X-MICROSOFT-CDO-ALLDAYEVENT: TRUE

END:VEVENT
END:VCALENDAR